BEGIN:VCALENDAR
VERSION:2.0
PRODID:-//Squarespace Inc/Squarespace 6//v6//EN
BEGIN:VEVENT
UID:5d3e608fa6cf2d000194f834@squarespace.com
DTSTAMP:20190729T042035Z
DTSTART:20190810T120000Z
DTEND:20190810T170000Z
SUMMARY:Poco Loco ft. Go Freek
END:VEVENT
END:VCALENDAR
