BEGIN:VCALENDAR
VERSION:2.0
PRODID:-//Squarespace Inc/Squarespace 6//v6//EN
BEGIN:VEVENT
UID:5d3e8b4ac29f5800013623b4@squarespace.com
DTSTAMP:20190806T042930Z
DTSTART:20190731T220000Z
DTEND:20191031T010000Z
SUMMARY:Celebrate with us &amp\; WIN A CRUISE! 
END:VEVENT
END:VCALENDAR
