BEGIN:VCALENDAR
VERSION:2.0
PRODID:-//Squarespace Inc/Squarespace 6//v6//EN
BEGIN:VEVENT
UID:5ca58d4a1905f48ae20de900@squarespace.com
DTSTAMP:20190404T045315Z
DTSTART:20190406T090000Z
DTEND:20190406T170000Z
SUMMARY:Mary's House Party // LO'99 + Locals over 3 levels!
END:VEVENT
END:VCALENDAR
