BEGIN:VCALENDAR
VERSION:2.0
PRODID:-//Squarespace Inc/Squarespace 6//v6//EN
BEGIN:VEVENT
UID:5d8ac4b51288c60646846a6d@squarespace.com
DTSTAMP:20190925T015403Z
DTSTART:20191104T230000Z
DTEND:20191105T070000Z
SUMMARY:Melbourne Cup Day
END:VEVENT
END:VCALENDAR
