BEGIN:VCALENDAR
VERSION:2.0
PRODID:-//Squarespace Inc/Squarespace 6//v6//EN
BEGIN:VEVENT
UID:5ca1892a4785d36ece5bcab6@squarespace.com
DTSTAMP:20190404T050614Z
DTSTART:20190512T010000Z
DTEND:20190512T120000Z
SUMMARY:MOTHER'S DAY - 2 Course Banquet ~ $35pp 💕
END:VEVENT
END:VCALENDAR
