BEGIN:VCALENDAR
VERSION:2.0
PRODID:-//Squarespace Inc/Squarespace 6//v6//EN
BEGIN:VEVENT
UID:5cb41f39f4e1fc911a3d1d83@squarespace.com
DTSTAMP:20190415T060758Z
DTSTART:20190503T090000Z
DTEND:20190503T133000Z
SUMMARY:Pagan - The Evil Eye Tour at Proud Mary's\, Central Coast
END:VEVENT
END:VCALENDAR
