BEGIN:VCALENDAR
VERSION:2.0
PRODID:-//Squarespace Inc/Squarespace 6//v6//EN
BEGIN:VEVENT
UID:5d365848cea4c7000100d51c@squarespace.com
DTSTAMP:20190723T005613Z
DTSTART:20190727T120000Z
DTEND:20190727T170000Z
SUMMARY:Poco Loco ft. Bijou [US]
END:VEVENT
END:VCALENDAR
