BEGIN:VCALENDAR
VERSION:2.0
PRODID:-//Squarespace Inc/Squarespace 6//v6//EN
BEGIN:VEVENT
UID:5d3e624a4412160001902d0f@squarespace.com
DTSTAMP:20190729T042346Z
DTSTART:20190824T120000Z
DTEND:20190824T170000Z
SUMMARY:Poco Loco ft. Brooklyn
END:VEVENT
END:VCALENDAR
