BEGIN:VCALENDAR
VERSION:2.0
PRODID:-//Squarespace Inc/Squarespace 6//v6//EN
BEGIN:VEVENT
UID:5d3f979452126800019abf84@squarespace.com
DTSTAMP:20190730T010910Z
DTSTART:20190831T120000Z
DTEND:20190831T170000Z
SUMMARY:Poco Loco ft. Ember &amp\; Lionette
END:VEVENT
END:VCALENDAR
