BEGIN:VCALENDAR
VERSION:2.0
PRODID:-//Squarespace Inc/Squarespace 6//v6//EN
BEGIN:VEVENT
UID:5d3e61bd6a6913000116a1cd@squarespace.com
DTSTAMP:20190729T042215Z
DTSTART:20190817T120000Z
DTEND:20190817T170000Z
SUMMARY:Poco Loco ft. Kid Kenobi
END:VEVENT
END:VCALENDAR
