BEGIN:VCALENDAR
VERSION:2.0
PRODID:-//Squarespace Inc/Squarespace 6//v6//EN
BEGIN:VEVENT
UID:5d3e5fe57f6c600001afe81c@squarespace.com
DTSTAMP:20190729T041918Z
DTSTART:20190803T120000Z
DTEND:20190803T170000Z
SUMMARY:Poco Loco ft. Minx
END:VEVENT
END:VCALENDAR
