BEGIN:VCALENDAR
VERSION:2.0
PRODID:-//Squarespace Inc/Squarespace 6//v6//EN
BEGIN:VEVENT
UID:5d22d4f6e722c40001fd4b80@squarespace.com
DTSTAMP:20190708T053311Z
DTSTART:20190713T120000Z
DTEND:20190713T170000Z
SUMMARY:Poco Loco ft. The Potbelleez &amp\; Jesabel [Launch Party]
END:VEVENT
END:VCALENDAR
