BEGIN:VCALENDAR
VERSION:2.0
PRODID:-//Squarespace Inc/Squarespace 6//v6//EN
BEGIN:VEVENT
UID:5cb416d49b747a58e8b144f2@squarespace.com
DTSTAMP:20190415T060452Z
DTSTART:20190427T100000Z
DTEND:20190427T170000Z
SUMMARY:Saturdays With Mary // Badrapper + Bajillionaire
END:VEVENT
END:VCALENDAR
