BEGIN:VCALENDAR
VERSION:2.0
PRODID:-//Squarespace Inc/Squarespace 6//v6//EN
BEGIN:VEVENT
UID:5cb416729b747a58e8b14319@squarespace.com
DTSTAMP:20190415T060505Z
DTSTART:20190420T110000Z
DTEND:20190420T170000Z
SUMMARY:Saturdays With Mary // EDDIE + Hi Life
END:VEVENT
END:VCALENDAR
