BEGIN:VCALENDAR
VERSION:2.0
PRODID:-//Squarespace Inc/Squarespace 6//v6//EN
BEGIN:VEVENT
UID:5ce641e97817f70450deba65@squarespace.com
DTSTAMP:20190527T062620Z
DTSTART:20190605T100000Z
DTEND:20190605T120000Z
SUMMARY:State of Origin 1
END:VEVENT
END:VCALENDAR
