BEGIN:VCALENDAR
VERSION:2.0
PRODID:-//Squarespace Inc/Squarespace 6//v6//EN
BEGIN:VEVENT
UID:5cad4be2104c7bc67dcc8e60@squarespace.com
DTSTAMP:20190410T015806Z
DTSTART:20190414T020000Z
DTEND:20190414T030000Z
SUMMARY:UFC 236 Holloway vs Poirier 2
END:VEVENT
END:VCALENDAR
