BEGIN:VCALENDAR
VERSION:2.0
PRODID:-//Squarespace Inc/Squarespace 6//v6//EN
BEGIN:VEVENT
UID:5d2d31d95b69c300011b6c63@squarespace.com
DTSTAMP:20190716T023344Z
DTSTART:20190728T000000Z
DTEND:20190728T060000Z
SUMMARY:UFC 240
END:VEVENT
END:VCALENDAR
