BEGIN:VCALENDAR
VERSION:2.0
PRODID:-//Squarespace Inc/Squarespace 6//v6//EN
BEGIN:VEVENT
UID:5d3f98f5b840d200018da693@squarespace.com
DTSTAMP:20190730T012201Z
DTSTART:20190818T000000Z
DTEND:20190818T060000Z
SUMMARY:UFC 241
END:VEVENT
END:VCALENDAR
