BEGIN:VCALENDAR
VERSION:2.0
PRODID:-//Squarespace Inc/Squarespace 6//v6//EN
BEGIN:VEVENT
UID:5ceb8072104c7be18b7ddf87@squarespace.com
DTSTAMP:20190529T014629Z
DTSTART:20190609T020000Z
DTEND:20190609T060000Z
SUMMARY:UFC 236
END:VEVENT
END:VCALENDAR
