BEGIN:VCALENDAR
VERSION:2.0
PRODID:-//Squarespace Inc/Squarespace 6//v6//EN
BEGIN:VEVENT
UID:5d5606cca7e1f900019e2993@squarespace.com
DTSTAMP:20190816T013023Z
DTSTART:20190828T110000Z
DTEND:20190828T160000Z
SUMMARY:Woodies Wednesday : Grand Opening
END:VEVENT
END:VCALENDAR
