BEGIN:VCALENDAR
VERSION:2.0
PRODID:-//Squarespace Inc/Squarespace 6//v6//EN
BEGIN:VEVENT
UID:5ca58e4ce5e5f0e319a1a526@squarespace.com
DTSTAMP:20190404T050120Z
DTSTART:20190418T100000Z
DTEND:20190418T170000Z
SUMMARY:Proud Marys pres. Good Friday Eve ft. Vincent (CAN) &amp\; Kinder
END:VEVENT
END:VCALENDAR
